BEGIN:VCALENDAR
VERSION:2.0
PRODID:-//eventon.com NONSGML v1.0//EN
BEGIN:VEVENT
UID:69e8fe2e11091
DTSTAMP:20260422T235822
DTSTART:20250316T010000Z
DTEND:20250316T110000Z
TZID:Asia/Jakarta
LOCATION:
SUMMARY:IKADI KALBAR
DESCRIPTION: IKADI KALBAR\nhttps://masjid.mujahidinpontianak.com/events/ikadi-kalbar/
URL:https://masjid.mujahidinpontianak.com/events/ikadi-kalbar/
END:VEVENT
END:VCALENDAR